BEGIN:VCALENDAR
VERSION:2.0
PRODID:-//Association of Women&#039;s Business Centers - ECPv6.15.20//NONSGML v1.0//EN
CALSCALE:GREGORIAN
METHOD:PUBLISH
X-ORIGINAL-URL:https://awbc.org
X-WR-CALDESC:Events for Association of Women&#039;s Business Centers
REFRESH-INTERVAL;VALUE=DURATION:PT1H
X-Robots-Tag:noindex
X-PUBLISHED-TTL:PT1H
BEGIN:VTIMEZONE
TZID:America/New_York
BEGIN:DAYLIGHT
TZOFFSETFROM:-0500
TZOFFSETTO:-0400
TZNAME:EDT
DTSTART:20230312T070000
END:DAYLIGHT
BEGIN:STANDARD
TZOFFSETFROM:-0400
TZOFFSETTO:-0500
TZNAME:EST
DTSTART:20231105T060000
END:STANDARD
BEGIN:DAYLIGHT
TZOFFSETFROM:-0500
TZOFFSETTO:-0400
TZNAME:EDT
DTSTART:20240310T070000
END:DAYLIGHT
BEGIN:STANDARD
TZOFFSETFROM:-0400
TZOFFSETTO:-0500
TZNAME:EST
DTSTART:20241103T060000
END:STANDARD
BEGIN:DAYLIGHT
TZOFFSETFROM:-0500
TZOFFSETTO:-0400
TZNAME:EDT
DTSTART:20250309T070000
END:DAYLIGHT
BEGIN:STANDARD
TZOFFSETFROM:-0400
TZOFFSETTO:-0500
TZNAME:EST
DTSTART:20251102T060000
END:STANDARD
END:VTIMEZONE
BEGIN:VEVENT
DTSTART;TZID=America/New_York:20240516T130000
DTEND;TZID=America/New_York:20240516T140000
DTSTAMP:20260420T090029
CREATED:20240207T180109Z
LAST-MODIFIED:20240207T180109Z
UID:10000182-1715864400-1715868000@awbc.org
SUMMARY:AWBC Members: Quarterly Member Orientation
DESCRIPTION:Join the AWBC team and your peer WBCs on May 16 for our upcoming AWBC Quarterly Member Orientation!  \nLearn about how your center can benefit from AWBC resources\, and share what YOU would like to see from us this year. We will share advocacy updates\, discuss upcoming partnership opportunities\, and provide a full refresher on all the perks of being a member of the AWBC – including updates to the AWBC member guide. \nThis event is open to both new and experienced WBC staff members \nDate: Thursday\, May 16\, 2024\nTime: 10:00 a.m. PT / 1:00 p.m. ET \nClick Here to Register.
URL:https://awbc.org/event/awbc-members-quarterly-member-orientation-4/
LOCATION:Online\, DC\, United States
ATTACH;FMTTYPE=image/png:https://awbc.org/wp-content/uploads/2024/02/Quarterly-Member-Orientation-5.png
ORGANIZER;CN="Association of Womens Business Centers":MAILTO:info@awbc.org
END:VEVENT
END:VCALENDAR