BEGIN:VCALENDAR
VERSION:2.0
PRODID:-//Association of Women&#039;s Business Centers - ECPv6.15.20//NONSGML v1.0//EN
CALSCALE:GREGORIAN
METHOD:PUBLISH
X-WR-CALNAME:Association of Women&#039;s Business Centers
X-ORIGINAL-URL:https://awbc.org
X-WR-CALDESC:Events for Association of Women&#039;s Business Centers
REFRESH-INTERVAL;VALUE=DURATION:PT1H
X-Robots-Tag:noindex
X-PUBLISHED-TTL:PT1H
BEGIN:VTIMEZONE
TZID:America/New_York
BEGIN:DAYLIGHT
TZOFFSETFROM:-0500
TZOFFSETTO:-0400
TZNAME:EDT
DTSTART:20240310T070000
END:DAYLIGHT
BEGIN:STANDARD
TZOFFSETFROM:-0400
TZOFFSETTO:-0500
TZNAME:EST
DTSTART:20241103T060000
END:STANDARD
BEGIN:DAYLIGHT
TZOFFSETFROM:-0500
TZOFFSETTO:-0400
TZNAME:EDT
DTSTART:20250309T070000
END:DAYLIGHT
BEGIN:STANDARD
TZOFFSETFROM:-0400
TZOFFSETTO:-0500
TZNAME:EST
DTSTART:20251102T060000
END:STANDARD
BEGIN:DAYLIGHT
TZOFFSETFROM:-0500
TZOFFSETTO:-0400
TZNAME:EDT
DTSTART:20260308T070000
END:DAYLIGHT
BEGIN:STANDARD
TZOFFSETFROM:-0400
TZOFFSETTO:-0500
TZNAME:EST
DTSTART:20261101T060000
END:STANDARD
END:VTIMEZONE
BEGIN:VEVENT
DTSTART;TZID=America/New_York:20250205T130000
DTEND;TZID=America/New_York:20250205T140000
DTSTAMP:20260419T133114
CREATED:20250130T171107Z
LAST-MODIFIED:20250228T181056Z
UID:10000217-1738760400-1738764000@awbc.org
SUMMARY:How to start selling in Amazon’s store
DESCRIPTION:Join AWBC and HOPE2Women for a 1-hour training on ‘How to Sell in Amazon’s Store‘. \n\n\nIn this session\, discover if you’re ready to sell in Amazon’s store and how to get started. Learn the fundamentals of selling with Amazon including what to sell and when\, how to list and deliver your products\, and how to grow and scale your brand online. We will also share information on the resources and programs Amazon has to help enable small business success.\n\n\nDate: Wednesday\, February 5\nTime: 10am PT / 1pm ET \nClick Here to Register
URL:https://awbc.org/event/how-to-start-selling-in-amazons-store/
LOCATION:DC
ATTACH;FMTTYPE=image/png:https://awbc.org/wp-content/uploads/2025/01/How-to-sell-in-amazons-store.png
ORGANIZER;CN="Association of Womens Business Centers":MAILTO:info@awbc.org
END:VEVENT
END:VCALENDAR