BEGIN:VCALENDAR
VERSION:2.0
PRODID:-//Association of Women&#039;s Business Centers - ECPv6.15.20//NONSGML v1.0//EN
CALSCALE:GREGORIAN
METHOD:PUBLISH
X-WR-CALNAME:Association of Women&#039;s Business Centers
X-ORIGINAL-URL:https://awbc.org
X-WR-CALDESC:Events for Association of Women&#039;s Business Centers
REFRESH-INTERVAL;VALUE=DURATION:PT1H
X-Robots-Tag:noindex
X-PUBLISHED-TTL:PT1H
BEGIN:VTIMEZONE
TZID:America/New_York
BEGIN:DAYLIGHT
TZOFFSETFROM:-0500
TZOFFSETTO:-0400
TZNAME:EDT
DTSTART:20250309T070000
END:DAYLIGHT
BEGIN:STANDARD
TZOFFSETFROM:-0400
TZOFFSETTO:-0500
TZNAME:EST
DTSTART:20251102T060000
END:STANDARD
BEGIN:DAYLIGHT
TZOFFSETFROM:-0500
TZOFFSETTO:-0400
TZNAME:EDT
DTSTART:20260308T070000
END:DAYLIGHT
BEGIN:STANDARD
TZOFFSETFROM:-0400
TZOFFSETTO:-0500
TZNAME:EST
DTSTART:20261101T060000
END:STANDARD
BEGIN:DAYLIGHT
TZOFFSETFROM:-0500
TZOFFSETTO:-0400
TZNAME:EDT
DTSTART:20270314T070000
END:DAYLIGHT
BEGIN:STANDARD
TZOFFSETFROM:-0400
TZOFFSETTO:-0500
TZNAME:EST
DTSTART:20271107T060000
END:STANDARD
END:VTIMEZONE
BEGIN:VEVENT
DTSTART;TZID=America/New_York:20260203T130000
DTEND;TZID=America/New_York:20260203T140000
DTSTAMP:20260420T074944
CREATED:20260121T193003Z
LAST-MODIFIED:20260121T193100Z
UID:10000251-1770123600-1770127200@awbc.org
SUMMARY:Get Paid Faster: Simple Systems Every Solo Business Owner Needs
DESCRIPTION:You didn’t start your business to chase invoices\, juggle payment apps\, or wonder where last month’s money went. \nIn this practical\, no-fluff training\, we’ll walk through simple systems that help solo business owners get paid faster\, look more professional\, and reduce day-to-day financial stress — without hiring help or learning complicated software. \nREGISTER HERE \nYou’ll learn how to: \n\nSet up easy\, client-friendly payment options that actually get paid\n\n\nUse invoices\, payment links\, and deposits to reduce late or missed payments\n\n\nCreate a clean paper trail that makes tax time and bookkeeping easier\n\n\nSee your sales and cash flow at a glance — even if you “hate numbers”\n\nThis session is designed for one-person businesses\, freelancers\, and independent operators who want their payment systems to work for them\, not against them.
URL:https://awbc.org/event/get-paid-faster-simple-systems-every-solo-business-owner-needs/
LOCATION:Online\, DC\, United States
CATEGORIES:Virtual Events
ORGANIZER;CN="Association of Womens Business Centers":MAILTO:info@awbc.org
END:VEVENT
END:VCALENDAR