BEGIN:VCALENDAR
VERSION:2.0
PRODID:-//Association of Women&#039;s Business Centers - ECPv6.15.20//NONSGML v1.0//EN
CALSCALE:GREGORIAN
METHOD:PUBLISH
X-ORIGINAL-URL:https://awbc.org
X-WR-CALDESC:Events for Association of Women&#039;s Business Centers
REFRESH-INTERVAL;VALUE=DURATION:PT1H
X-Robots-Tag:noindex
X-PUBLISHED-TTL:PT1H
BEGIN:VTIMEZONE
TZID:America/New_York
BEGIN:DAYLIGHT
TZOFFSETFROM:-0500
TZOFFSETTO:-0400
TZNAME:EDT
DTSTART:20230312T070000
END:DAYLIGHT
BEGIN:STANDARD
TZOFFSETFROM:-0400
TZOFFSETTO:-0500
TZNAME:EST
DTSTART:20231105T060000
END:STANDARD
BEGIN:DAYLIGHT
TZOFFSETFROM:-0500
TZOFFSETTO:-0400
TZNAME:EDT
DTSTART:20240310T070000
END:DAYLIGHT
BEGIN:STANDARD
TZOFFSETFROM:-0400
TZOFFSETTO:-0500
TZNAME:EST
DTSTART:20241103T060000
END:STANDARD
BEGIN:DAYLIGHT
TZOFFSETFROM:-0500
TZOFFSETTO:-0400
TZNAME:EDT
DTSTART:20250309T070000
END:DAYLIGHT
BEGIN:STANDARD
TZOFFSETFROM:-0400
TZOFFSETTO:-0500
TZNAME:EST
DTSTART:20251102T060000
END:STANDARD
END:VTIMEZONE
BEGIN:VEVENT
DTSTART;TZID=America/New_York:20241205T130000
DTEND;TZID=America/New_York:20241205T143000
DTSTAMP:20260419T152158
CREATED:20240923T174338Z
LAST-MODIFIED:20250228T181155Z
UID:10000199-1733403600-1733409000@awbc.org
SUMMARY:National WBC of Excellence Graduation & Closing Ceremony
DESCRIPTION:AWBC is proud to celebrate the recognition of the cohort for the National WBC of Excellence ceremony!\n\nParticipants are able to invite a funder\, advisory board member and/or a member of the leadership team to witness what benefit pursuing the WBC of Excellence designation has brought and will bring to your organization. There will also be opportunity to share something you have seen positive in your peer(s) and an opportunity for funders/advisory board and leadership team to share comments.\n\n\n\nDate: Thursday\, December 5\, 2024 \nTime: 10:00 a.m. – 11:30 a.m. PT / 1:00 – 2:30 p.m. ET \nClick here to register.
URL:https://awbc.org/event/national-wbc-of-excellence-graduation-closing-ceremony-2/
LOCATION:Online\, DC\, United States
ATTACH;FMTTYPE=image/png:https://awbc.org/wp-content/uploads/2024/09/National-WBC-of-Excellence-16x9-1.png
ORGANIZER;CN="Association of Womens Business Centers":MAILTO:info@awbc.org
END:VEVENT
BEGIN:VEVENT
DTSTART;TZID=America/New_York:20241209T130000
DTEND;TZID=America/New_York:20241209T133000
DTSTAMP:20260419T152158
CREATED:20241203T190415Z
LAST-MODIFIED:20250228T181148Z
UID:10000203-1733749200-1733751000@awbc.org
SUMMARY:AWBC Conference Encore: Vertical IQ Exclusive Demo for WBCs
DESCRIPTION:Join AWBC for a 30 minute live demo exclusively for Women’s Business Centers to learn how Vertical IQ’s Industry Intelligence can empower your advisors to become more efficient\, effective\, and impactful. \nDuring this session\, Chief Sales Officer and co-founder\, Susan Bell\, will guide you through Vertical IQ’s use cases for WBCs and key features including Localized Industry Data\, Financial Benchmarks\, and call preparation tools\, all designed to equip your team with the insights needed to advise small businesses effectively. \nIf you didn’t have a chance to connect with the Vertical IQ team at the leadership conference\, now is your chance to learn about special pricing available for WBCs! \n  \nDates & Times: \nMonday\, December 9 at 10 AM PT / 1 PM ET \nThursday\, December 12 at 9AM PT / 12 PM ET \nClick here to register
URL:https://awbc.org/event/awbc-conference-encore-vertical-iq-exclusive-demo-for-wbcs/
LOCATION:Online\, DC\, United States
ATTACH;FMTTYPE=image/png:https://awbc.org/wp-content/uploads/2024/12/2024_AWBC-Demo-Graphic-Smaller.png
ORGANIZER;CN="Association of Womens Business Centers":MAILTO:info@awbc.org
END:VEVENT
BEGIN:VEVENT
DTSTART;TZID=America/New_York:20241211T130000
DTEND;TZID=America/New_York:20241211T140000
DTSTAMP:20260419T152158
CREATED:20241203T185143Z
LAST-MODIFIED:20250228T181133Z
UID:10000202-1733922000-1733925600@awbc.org
SUMMARY:Capital Access for WBCs: What You Need to Know About The Stearns Bank Partnership
DESCRIPTION:Join AWBC and Stearns Bank for the launch of a new partnership (as announced at the 2024 AWBC conference)! We’ll explore how your WBC can leverage Stearns products to benefit clients\, gain support from a trusted capital provider\, and increase access to unrestricted funds for your WBC. \nIf you didn’t have a chance to connect with the Stearns Bank at the leadership conference\, now is your chance to learn about this exciting partnership for WBCs! \nOptional: Before the meeting\, learn more about SBA Loan Types by taking a short (12-minute) course on Small Business Digital Ready:  www.hope2women.org/sbaloantypes. Simply login and find the course under the “Learn” section. \n  \nDate & Time: Wednesday\, December 11 at 10 AM PT / 1 PM ET \nClick here to register
URL:https://awbc.org/event/capital-access-for-wbcs-what-you-need-to-know-about-the-stearns-bank-partnership/
LOCATION:Online\, DC\, United States
ATTACH;FMTTYPE=image/png:https://awbc.org/wp-content/uploads/2024/12/Webinar-Capital-Access-for-WBCs-join-our-next-webinar-marketing-strategy-Presentation.png
ORGANIZER;CN="Association of Womens Business Centers":MAILTO:info@awbc.org
END:VEVENT
BEGIN:VEVENT
DTSTART;TZID=America/New_York:20241212T120000
DTEND;TZID=America/New_York:20241212T123000
DTSTAMP:20260419T152158
CREATED:20241203T190522Z
LAST-MODIFIED:20250228T181128Z
UID:10000204-1734004800-1734006600@awbc.org
SUMMARY:AWBC Conference Encore: Vertical IQ Exclusive Demo for WBCs
DESCRIPTION:Join AWBC for a 30 minute live demo exclusively for Women’s Business Centers to learn how Vertical IQ’s Industry Intelligence can empower your advisors to become more efficient\, effective\, and impactful. \nDuring this session\, Chief Sales Officer and co-founder\, Susan Bell\, will guide you through Vertical IQ’s use cases for WBCs and key features including Localized Industry Data\, Financial Benchmarks\, and call preparation tools\, all designed to equip your team with the insights needed to advise small businesses effectively. \nIf you didn’t have a chance to connect with the Vertical IQ team at the leadership conference\, now is your chance to learn about special pricing available for WBCs! \n  \nDates & Times: \nMonday\, December 9 at 10 AM PT / 1 PM ET \nThursday\, December 12 at 9AM PT / 12 PM ET \nClick here to register
URL:https://awbc.org/event/awbc-conference-encore-vertical-iq-exclusive-demo-for-wbcs-2/
LOCATION:Online\, DC\, United States
ATTACH;FMTTYPE=image/png:https://awbc.org/wp-content/uploads/2024/12/2024_AWBC-Demo-Graphic-Smaller.png
ORGANIZER;CN="Association of Womens Business Centers":MAILTO:info@awbc.org
END:VEVENT
END:VCALENDAR