BEGIN:VCALENDAR
VERSION:2.0
PRODID:-//Association of Women&#039;s Business Centers - ECPv6.15.20//NONSGML v1.0//EN
CALSCALE:GREGORIAN
METHOD:PUBLISH
X-WR-CALNAME:Association of Women&#039;s Business Centers
X-ORIGINAL-URL:https://awbc.org
X-WR-CALDESC:Events for Association of Women&#039;s Business Centers
REFRESH-INTERVAL;VALUE=DURATION:PT1H
X-Robots-Tag:noindex
X-PUBLISHED-TTL:PT1H
BEGIN:VTIMEZONE
TZID:America/New_York
BEGIN:DAYLIGHT
TZOFFSETFROM:-0500
TZOFFSETTO:-0400
TZNAME:EDT
DTSTART:20240310T070000
END:DAYLIGHT
BEGIN:STANDARD
TZOFFSETFROM:-0400
TZOFFSETTO:-0500
TZNAME:EST
DTSTART:20241103T060000
END:STANDARD
BEGIN:DAYLIGHT
TZOFFSETFROM:-0500
TZOFFSETTO:-0400
TZNAME:EDT
DTSTART:20250309T070000
END:DAYLIGHT
BEGIN:STANDARD
TZOFFSETFROM:-0400
TZOFFSETTO:-0500
TZNAME:EST
DTSTART:20251102T060000
END:STANDARD
BEGIN:DAYLIGHT
TZOFFSETFROM:-0500
TZOFFSETTO:-0400
TZNAME:EDT
DTSTART:20260308T070000
END:DAYLIGHT
BEGIN:STANDARD
TZOFFSETFROM:-0400
TZOFFSETTO:-0500
TZNAME:EST
DTSTART:20261101T060000
END:STANDARD
END:VTIMEZONE
BEGIN:VEVENT
DTSTART;TZID=America/New_York:20250205T130000
DTEND;TZID=America/New_York:20250205T140000
DTSTAMP:20260419T115059
CREATED:20250130T171107Z
LAST-MODIFIED:20250228T181056Z
UID:10000217-1738760400-1738764000@awbc.org
SUMMARY:How to start selling in Amazon’s store
DESCRIPTION:Join AWBC and HOPE2Women for a 1-hour training on ‘How to Sell in Amazon’s Store‘. \n\n\nIn this session\, discover if you’re ready to sell in Amazon’s store and how to get started. Learn the fundamentals of selling with Amazon including what to sell and when\, how to list and deliver your products\, and how to grow and scale your brand online. We will also share information on the resources and programs Amazon has to help enable small business success.\n\n\nDate: Wednesday\, February 5\nTime: 10am PT / 1pm ET \nClick Here to Register
URL:https://awbc.org/event/how-to-start-selling-in-amazons-store/
LOCATION:DC
ATTACH;FMTTYPE=image/png:https://awbc.org/wp-content/uploads/2025/01/How-to-sell-in-amazons-store.png
ORGANIZER;CN="Association of Womens Business Centers":MAILTO:info@awbc.org
END:VEVENT
BEGIN:VEVENT
DTSTART;TZID=America/New_York:20250206T130000
DTEND;TZID=America/New_York:20250206T140000
DTSTAMP:20260419T115059
CREATED:20241213T151509Z
LAST-MODIFIED:20250228T181050Z
UID:10000205-1738846800-1738850400@awbc.org
SUMMARY:Encore Session: Grant Ready\, Grant Steady: From Proposal to Compliance
DESCRIPTION:Join AWBC and Ascend Ascend Nonprofit & Business Solutions for an insightful training session on organizational readiness for grant acquisition and management\, aimed at equipping fundraisers with best practices in grant fundraising and sustaining compliance beyond the SBA grant. \nLed by experts Dr. Arlene Siller and Daniela Paz from Ascend Nonprofit & Business Solutions\, this training offers essential knowledge and tools to navigate the entire grant process—from pre-award preparation to post-award compliance. \nWhether you’re new to grants or looking to enhance your strategies\, this session provides actionable insights to help you secure funding and ensure long-term success and sustainability. \nIf you didn’t get a chance to connect with Ascend at the Leadership Conference\, here is your chance to learn best practices on grant proposals! Don’t miss this opportunity to elevate your grant strategy and make a lasting impact in your community. \n  \nDate: Thursday\, February 6\, 2025\nTime: 10:00 a.m. PT / 1:00 p.m. ET \nClick here to register
URL:https://awbc.org/event/encore-session-grant-ready-grant-steady-from-proposal-to-compliance/
LOCATION:Online\, DC\, United States
CATEGORIES:Virtual Events
ATTACH;FMTTYPE=image/png:https://awbc.org/wp-content/uploads/2024/12/Ascend-NBS-Webinar-Graphics-3.png
ORGANIZER;CN="Association of Womens Business Centers":MAILTO:info@awbc.org
END:VEVENT
BEGIN:VEVENT
DTSTART;TZID=America/New_York:20250212T130000
DTEND;TZID=America/New_York:20250212T140000
DTSTAMP:20260419T115059
CREATED:20250127T215438Z
LAST-MODIFIED:20250228T180533Z
UID:10000216-1739365200-1739368800@awbc.org
SUMMARY:Sustaining WBC Success: Addressing Cash Flow In WBC Operations
DESCRIPTION:Join us for an engaging virtual event designed specifically for Women’s Business Centers (WBCs) Directors\, hosts\, and/or financial officers. This session will delve into the common cash flow challenges faced by WBCs and explore practical solutions to ensure financial stability and sustainability. Our discussion will cover strategic tools such as establishing a Line of Credit and other financial strategies specifically tailored for WBC operations. \nWho Should Attend: Directors\, financial officers\, and staff of Women’s Business Centers who are seeking solutions to manage WBC operational cash flow challenges. \nKey Takeaways: \n\nUnderstand common cash flow challenges for WBCs.\nLearn how a Line of Credit can support your center’s financial stability.\nExplore actionable solutions and best practices for managing cash flow.\nConnect with peers to share experiences and strategies.\n\nDon’t miss this opportunity to strengthen your WBC’s financial foundation and ensure long-term success! \n  \nDate: Wednesday\, February 12\nTime: 10am PT / 1pm ET \nClick here to register
URL:https://awbc.org/event/sustaining-wbc-success-addressing-cash-flow-in-wbc-operations/
LOCATION:Online\, DC\, United States
ATTACH;FMTTYPE=image/png:https://awbc.org/wp-content/uploads/2025/01/WBC-connect-other-member-only-social-slides-7.png
ORGANIZER;CN="Association of Womens Business Centers":MAILTO:info@awbc.org
END:VEVENT
BEGIN:VEVENT
DTSTART;TZID=America/New_York:20250226T130000
DTEND;TZID=America/New_York:20250226T140000
DTSTAMP:20260419T115059
CREATED:20250108T204419Z
LAST-MODIFIED:20250228T180517Z
UID:10000209-1740574800-1740578400@awbc.org
SUMMARY:WBC Connect
DESCRIPTION:Monthly Meet-Up for WBC Directors & Staff\nJoin us for the WBC Connect monthly meet-up with your WBC peers for a one-hour discussion. \nTheme: Finding good coaches and growing your WBC coaching program \nWBC Spotlight: Kathryn Rudloff\, Executive Director at weVENTURE WBC \n  \nDate: Wednesday\, February 26\nTime: 10:00 a.m. PT / 1:00 p.m. ET \nThese casual monthly meet-ups serve as an open space to exchange resources and develop tangible solutions for your WBC. Bring your burning questions and share your own challenges and tips with your peers! \nClick here to register
URL:https://awbc.org/event/wbc-connect-11/
LOCATION:Online\, DC\, United States
ATTACH;FMTTYPE=image/png:https://awbc.org/wp-content/uploads/2024/09/WBC-Connect-e1745950456104.png
ORGANIZER;CN="Association of Womens Business Centers":MAILTO:info@awbc.org
END:VEVENT
BEGIN:VEVENT
DTSTART;TZID=America/New_York:20250227T130000
DTEND;TZID=America/New_York:20250227T140000
DTSTAMP:20260419T115059
CREATED:20250115T185144Z
LAST-MODIFIED:20250228T181040Z
UID:10000211-1740661200-1740664800@awbc.org
SUMMARY:Encore Session: Mastering the Customer Journey from Onboarding to Impact
DESCRIPTION:Join AWBC and GrowthWheel International Inc. for an encore session: Mastering the Customer Journey from Onboarding to Impact. \nAs small business advisors\, we want to give all of our clients a professional service experience. A challenge is that every meeting is different and every client must be serviced differently. \nHowever\, the real problem is how we can create a client journey that is both flexible and standardized at the same time. The truth is that trust is created both through consistency and customization. That’s why we need to be able to take clients through an individual client journey rather than a generic client journey. \nIn this workshop\, you will discuss with other advisors how to create high-quality customer journeys. \nThe takeaway from this workshop: \n\nHow to onboard clients for future success\nHow to assess and triage clients\nHow to define the scope of work\nHow to track and report results to all stakeholders\n\nIf you didn’t get a chance to connect with GrowthWheel at the Leadership Conference\, here is your chance to learn best practices on mastering the customer journey! \nClick Here to Register
URL:https://awbc.org/event/encore-session-mastering-the-customer-journey-from-onboarding-to-impact/
LOCATION:Online\, DC\, United States
CATEGORIES:Virtual Events
ATTACH;FMTTYPE=image/png:https://awbc.org/wp-content/uploads/2025/01/Ascend-NBS-Webinar-Graphics-2.png
ORGANIZER;CN="Association of Womens Business Centers":MAILTO:info@awbc.org
END:VEVENT
END:VCALENDAR